BEGIN:VCALENDAR
VERSION:2.0
PRODID:-//Stadtgeschichte München//DE
CALSCALE:GREGORIAN
BEGIN:VEVENT
UID:2840@stadtgeschichte-muenchen.de
SUMMARY:Französische Gartenkunst unter Kurfürst Max Emanuel
DESCRIPTION:
DTSTART:20120707T140000
DTEND:20120707T000000
LOCATION:Kasse Neues Schloss Schleißheim
ORGANIZER:Bayerische Schlösserverwaltung
END:VEVENT
END:VCALENDAR