BEGIN:VCALENDAR
VERSION:2.0
PRODID:-//Stadtgeschichte München//DE
CALSCALE:GREGORIAN
BEGIN:VEVENT
UID:2842@stadtgeschichte-muenchen.de
SUMMARY:Brennereiführung mit anschließender Verkostung
DESCRIPTION:&lt;p&gt;Geschichtliches und Aktuelles zur Schlossbrennerei und&amp;nbsp;den Schleißheimer Obstanlagen&lt;/p&gt; &lt;p&gt;&amp;nbsp;&lt;/p&gt; 
DTSTART:20120707T160000
DTEND:20120707T000000
LOCATION:Kasse Neues Schloss Schleißheim
ORGANIZER:Bayerische Schlösserverwaltung
END:VEVENT
END:VCALENDAR