BEGIN:VCALENDAR
VERSION:2.0
PRODID:-//Stadtgeschichte München//DE
CALSCALE:GREGORIAN
BEGIN:VEVENT
UID:2867@stadtgeschichte-muenchen.de
SUMMARY:Schloss Lustheim und die höfische Jagd mit Falken und Hunden
DESCRIPTION:&lt;div&gt;Beginn 1. F&amp;uuml;hrung: 14.00 Uhr (f&amp;uuml;r Kinder von 6 &amp;ndash;9 J.)&lt;/div&gt; &lt;div&gt;Beginn 2. F&amp;uuml;hrung: 15.00 Uhr (f&amp;uuml;r Kinder von 9 &amp;ndash;12 J.)&lt;/div&gt; &lt;div&gt;&amp;nbsp;&lt;/div&gt; &lt;div&gt;Teilnehmerbeschr&amp;auml;nkung&lt;/div&gt;
DTSTART:20120708T140000
DTEND:20120708T000000
LOCATION:Kasse Schloss Lustheim
ORGANIZER:Bayerische Schlösserverwaltung
END:VEVENT
END:VCALENDAR