BEGIN:VCALENDAR
VERSION:2.0
PRODID:-//Stadtgeschichte München//DE
CALSCALE:GREGORIAN
BEGIN:VEVENT
UID:2869@stadtgeschichte-muenchen.de
SUMMARY:Herkules und Hydra
DESCRIPTION:
DTSTART:20120711T150000
DTEND:20120711T000000
LOCATION:Haupteingang Schloss Nymphenburg
ORGANIZER:Bayerische Schlösserverwaltung
END:VEVENT
END:VCALENDAR