BEGIN:VCALENDAR
VERSION:2.0
PRODID:-//Stadtgeschichte München//DE
CALSCALE:GREGORIAN
BEGIN:VEVENT
UID:2872@stadtgeschichte-muenchen.de
SUMMARY:Der Dachstuhl von Schloss Nymphenburg
DESCRIPTION:&lt;div&gt;Teilnehmerbeschr&amp;auml;nkung&lt;/div&gt; &lt;p&gt;&amp;nbsp;&lt;/p&gt;
DTSTART:20120714T140000
DTEND:20120714T000000
LOCATION: Haupteingang Schloss Nymphenburg
ORGANIZER:Bayerische Schlösserverwaltung
END:VEVENT
END:VCALENDAR