BEGIN:VCALENDAR
VERSION:2.0
PRODID:-//Stadtgeschichte München//DE
CALSCALE:GREGORIAN
BEGIN:VEVENT
UID:2876@stadtgeschichte-muenchen.de
SUMMARY:Max Emanuel zum 350. Geburtstag:
DESCRIPTION:
DTSTART:20120714T160000
DTEND:20120714T000000
LOCATION:Kasse Neues Schloss Schleißheim
ORGANIZER:Bayerische Schlösserverwaltung
END:VEVENT
END:VCALENDAR