BEGIN:VCALENDAR
VERSION:2.0
PRODID:-//Stadtgeschichte München//DE
CALSCALE:GREGORIAN
BEGIN:VEVENT
UID:2877@stadtgeschichte-muenchen.de
SUMMARY:Vivat Max Emanuel!
DESCRIPTION:&lt;div&gt;Die Inszenierung unter freiem Himmel lehnt sich an&amp;nbsp;Programmpunkte der Festveranstaltung von 1662 an, die&amp;nbsp;in ganz Europa Aufsehen erregte. Ein kleines barockes Spectaculum mit Reiterspielen, allegorischen Einlagen, Jagdund Triumphszenen unter Pauken- und Trompetenschall,&amp;nbsp;konzipiert und kommentiert von Dr. Marcus Junkelmann.&lt;/div&gt; &lt;div&gt;&amp;nbsp;&lt;/div&gt;
DTSTART:20120714T193000
DTEND:20120714T000000
LOCATION:Schloss Lustheim, Parterre
ORGANIZER:Bayerische Schlösserverwaltung
END:VEVENT
END:VCALENDAR