BEGIN:VCALENDAR
VERSION:2.0
PRODID:-//Stadtgeschichte München//DE
CALSCALE:GREGORIAN
BEGIN:VEVENT
UID:2880@stadtgeschichte-muenchen.de
SUMMARY:Venedig in Schleißheim:
DESCRIPTION:&lt;div&gt;In Erinnerung an die venezianischen Prunk- und&amp;nbsp;Lustschi e am Hofe Max Emanuels k&amp;ouml;nnen Sie in einer&amp;nbsp;originalen venezianischen Gondel auf dem Mittelkanal&amp;nbsp;des Hofgartens Schlei&amp;szlig;heim spazieren fahren.&lt;/div&gt; &lt;div&gt;&amp;nbsp;&lt;/div&gt; &lt;div&gt;Abfahrt: 10.00 &amp;middot; 10.30 &amp;middot; 11.00 &amp;middot; 11.30 &amp;middot; 13.00 &amp;middot; 13.30&amp;nbsp;14.00 &amp;middot; 17.00 &amp;middot; 17.30 Uhr&lt;/div&gt; &lt;div&gt;(14.30 &amp;ndash;16.30 Uhr eingeschr&amp;auml;nkter Fahrbetrieb)&lt;/div&gt; &lt;div&gt;Dauer: jeweils etwa 30 Minuten&lt;/div&gt;
DTSTART:20120715T100000
DTEND:20120715T000000
LOCATION:Kasse Schloss Lustheim
ORGANIZER:Bayerische Schlösserverwaltung
END:VEVENT
END:VCALENDAR