BEGIN:VCALENDAR
VERSION:2.0
PRODID:-//Stadtgeschichte München//DE
CALSCALE:GREGORIAN
BEGIN:VEVENT
UID:2882@stadtgeschichte-muenchen.de
SUMMARY:Kunstwerk des Monats
DESCRIPTION:
DTSTART:20120708T110000
DTEND:20120708T120000
LOCATION:Kasse
ORGANIZER:Bayerisches Nationalmuseum
END:VEVENT
END:VCALENDAR