BEGIN:VCALENDAR
VERSION:2.0
PRODID:-//Stadtgeschichte München//DE
CALSCALE:GREGORIAN
BEGIN:VEVENT
UID:2884@stadtgeschichte-muenchen.de
SUMMARY:Der Silberbecher - Künstlerführung
DESCRIPTION:&lt;p&gt;&amp;nbsp;Der Silberbecher-K&amp;uuml;nstlerf&amp;uuml;hrung&lt;/p&gt; &lt;div&gt;&amp;nbsp;&lt;/div&gt;
DTSTART:20120715T140000
DTEND:20120715T000000
LOCATION:Sonderausstellung
ORGANIZER:Bayerisches Nationalmuseum
END:VEVENT
END:VCALENDAR