BEGIN:VCALENDAR
VERSION:2.0
PRODID:-//Stadtgeschichte München//DE
CALSCALE:GREGORIAN
BEGIN:VEVENT
UID:2885@stadtgeschichte-muenchen.de
SUMMARY:Max Emanuel zum 350. Geburtstag
DESCRIPTION:&lt;p&gt; &lt;p&gt; &lt;p&gt;&amp;nbsp;&lt;/p&gt; &lt;/p&gt; &lt;/p&gt;
DTSTART:20120722T130000
DTEND:20120722T120000
LOCATION:Sonderausstellung
ORGANIZER:Bayerisches Nationalmuseum
END:VEVENT
END:VCALENDAR