BEGIN:VCALENDAR
VERSION:2.0
PRODID:-//Stadtgeschichte München//DE
CALSCALE:GREGORIAN
BEGIN:VEVENT
UID:2886@stadtgeschichte-muenchen.de
SUMMARY:Bayerische Städte in der Renaissance
DESCRIPTION:&lt;div&gt;&amp;nbsp;&lt;/div&gt; &lt;p&gt;&amp;nbsp;&lt;/p&gt;
DTSTART:20120909T110000
DTEND:20120909T000000
LOCATION:
ORGANIZER:Bayerisches Nationalmuseum
END:VEVENT
END:VCALENDAR