BEGIN:VCALENDAR
VERSION:2.0
PRODID:-//Stadtgeschichte München//DE
CALSCALE:GREGORIAN
BEGIN:VEVENT
UID:2891@stadtgeschichte-muenchen.de
SUMMARY:Johann Baptist Straub und Ignaz Günther
DESCRIPTION:&lt;p&gt;&amp;nbsp;Johann Baptist Straub und Ignaz G&amp;uuml;nther. Zwei M&amp;uuml;nchner Bildhauer des Rokoko&lt;/p&gt; &lt;div&gt;&amp;nbsp;&lt;/div&gt;
DTSTART:20120927T180000
DTEND:20120927T000000
LOCATION:Kasse
ORGANIZER:Bayerisches Nationalmuseum
END:VEVENT
END:VCALENDAR