BEGIN:VCALENDAR
VERSION:2.0
PRODID:-//Stadtgeschichte München//DE
CALSCALE:GREGORIAN
BEGIN:VEVENT
UID:2892@stadtgeschichte-muenchen.de
SUMMARY:Kunstwerk des Monats
DESCRIPTION:&lt;p&gt;&amp;nbsp;&lt;/p&gt; &lt;p&gt;&amp;nbsp;&lt;/p&gt; &lt;p&gt;&amp;nbsp;&lt;/p&gt; &lt;p&gt;&amp;nbsp;&lt;/p&gt; &lt;p&gt;&amp;nbsp;&lt;/p&gt;
DTSTART:20120719T180000
DTEND:20120719T120000
LOCATION:Sonderausstellung
ORGANIZER:Bayerisches Nationalmuseum
END:VEVENT
END:VCALENDAR