BEGIN:VCALENDAR
VERSION:2.0
PRODID:-//Stadtgeschichte München//DE
CALSCALE:GREGORIAN
BEGIN:VEVENT
UID:2896@stadtgeschichte-muenchen.de
SUMMARY:Die Geheimnisse der Stadt â€“ Führung für Kinder
DESCRIPTION:&lt;p&gt;Gemeinsam entdecken wir die Geheimnisse der M&amp;uuml;nchner Altstadt. Wir erkunden die alte Burg M&amp;uuml;nchens, die einmal ein echter Kaiser bewohnte, und erfahren, was Affen anstellen, wenn sie frei in den Gem&amp;auml;uern herumlaufen d&amp;uuml;rfen. Zuvor begegnen wir auf dem Marienplatz einem schrecklichen Drachen und entdecken fantastische Fabelwesen am Neuen Rathaus. Wer wei&amp;szlig; schon, warum sich die Metzger freiwillig in das kalte Wasser des Fischbrunnens werfen lie&amp;szlig;en? Und warum ein Riese mit langem Bart &amp;uuml;ber den Marienplatz blickt und alle Vorbeigehenden freundlich gr&amp;uuml;&amp;szlig;t? Und nat&amp;uuml;rlich gehen wir in den sch&amp;ouml;nen Dom der Stadt, die Frauenkirche, denn dort hat sich kein geringerer als der Teufel selbst zu schaffen gemacht &amp;hellip;&lt;/p&gt;
DTSTART:20120812T130000
DTEND:20120812T140000
LOCATION:Frauenkirche (vor dem Haupteingang)
ORGANIZER:Mystisches München
END:VEVENT
END:VCALENDAR