BEGIN:VCALENDAR
VERSION:2.0
PRODID:-//Stadtgeschichte München//DE
CALSCALE:GREGORIAN
BEGIN:VEVENT
UID:2901@stadtgeschichte-muenchen.de
SUMMARY:Quellen des Lebens â€“ Wasser des Lebens
DESCRIPTION:&lt;p&gt;Die Brunnen in M&amp;uuml;nchen sind zahlreich, zahlreicher als so mancher M&amp;uuml;nchner selbst denken mag. Da gibt es so bekannte wie den Springbrunnen am Stachus und nat&amp;uuml;rlich den als Treffpunkt beliebten Fischbrunnen auf dem Marienplatz. Jeder Brunnen erz&amp;auml;hlt eine Geschichte, nicht nur aus historischer und kunsthistorischer Sicht, sondern auch in Bezug auf den Platz, an dem er steht, und nat&amp;uuml;rlich die Symbolik, die in ihm gestaltet ist.Auf diesem erfrischenden Spaziergang durch die M&amp;uuml;nchner Innenstadt suchen wir diese Brunnen auf, die prachtvollen wie den Wittelsbacher Brunnen und den Neptunbrunnen, aber auch die kleinen feinen wie den Faunbrunnen am Stachus und die eher vergessenen wie den im Alten Hof. Wir gehen auch an Stellen, an denen sich einst Brunnen befanden und gehen der Frage nach, welche Bedeutung sie dort besessen haben. Dabei interessieren uns nicht nur Geschichte und Geschichten, sondern auch die Idee des Brunnens als Quelle des Lebens und Quelle des Wissens und der Weisheit, wie sie in vielen M&amp;auml;rchen und Mythen eine wichtige Rolle spielen. Auch besch&amp;auml;ftigen wir uns mit der Frage, welche Art von Kraft-Quelle die Brunnen f&amp;uuml;r M&amp;uuml;nchen noch in der heutigen Zeit sind &amp;ndash; und wie wir die Kraft der Quelle in unserem eigene Leben nutzen k&amp;ouml;nnen. Die Symbolik des Wassers, seine f&amp;uuml;r uns Menschen ganz besondere Kraft und Wichtigkeit begleiten uns auf diesem Spaziergang.&lt;/p&gt;
DTSTART:20120826T130000
DTEND:20120826T150000
LOCATION:Isartor
ORGANIZER:Mystisches München
END:VEVENT
END:VCALENDAR