BEGIN:VCALENDAR
VERSION:2.0
PRODID:-//Stadtgeschichte München//DE
CALSCALE:GREGORIAN
BEGIN:VEVENT
UID:2903@stadtgeschichte-muenchen.de
SUMMARY:Das geheimnisvolle Kreuzviertel
DESCRIPTION:&lt;p&gt;Das Kreuzviertel zwischen Neuhauser Tor und Feldherrnhalle: Es tr&amp;auml;gt diesen Namen zurecht, denn hier reiht sich Kirche an Kirche, Kloster an Kloster &amp;ndash; und heute Bank an Bank. Man nannte es auch das Eremitenviertel &amp;hellip; Unser Spaziergang durch das nordwestliche Viertel der Altstadt beginnt beim einstigen Westtor der zweiten Stadtbefestigung, dem Neuhauser Tor, auch Karlstor genannt. Prachtvolle Kirchenbauten wie die Michaelskirche erz&amp;auml;hlen von dem Versuch, den rechten Glauben mit aller Macht durchzusetzen &amp;ndash; mit fatalen Folgen f&amp;uuml;r die M&amp;uuml;nchner B&amp;uuml;rger. Wir entdecken das Herz des Viertels am Promenadenplatz, begeben uns auf die Suche nach den Spuren der geheimnisvollen Illuminaten und erfahren, wie Visionen die Stadt vor der Zerst&amp;ouml;rung retteten.&lt;/p&gt;
DTSTART:20120909T153000
DTEND:20120909T173000
LOCATION:Karlstor (Stachus)	
ORGANIZER:Mystisches München
END:VEVENT
END:VCALENDAR