BEGIN:VCALENDAR
VERSION:2.0
PRODID:-//Stadtgeschichte München//DE
CALSCALE:GREGORIAN
BEGIN:VEVENT
UID:2907@stadtgeschichte-muenchen.de
SUMMARY:Auf den Spuren der Seuchengeschichte in München
DESCRIPTION:&lt;p&gt;M&amp;uuml;nchen wurde &amp;uuml;ber Jahrhunderte von schrecklichen Seuchen heimgesucht. L&amp;auml;ngst vergessene Krankheiten bereiteten dem Tod reiche Ernte. Eine spannende und historisch gut fundierte Spurensuche &amp;uuml;ber 2.5 Std.&lt;/p&gt; &lt;p&gt;Anmeldung: Tel.089/332686 oder Kontaktformular&lt;/p&gt; &lt;p&gt;siehe &lt;a rel=&quot;nofollow&quot; href=&quot;http://www.seuchengeschichte-muenchen.de&quot;&gt;www.seuchengeschichte-muenchen.de&lt;/a&gt;&lt;/p&gt;
DTSTART:20120902T140000
DTEND:20120902T163000
LOCATION:Marienplatz, Haupteingang neues Rathaus
ORGANIZER:
END:VEVENT
END:VCALENDAR