BEGIN:VCALENDAR
VERSION:2.0
PRODID:-//Stadtgeschichte München//DE
CALSCALE:GREGORIAN
BEGIN:VEVENT
UID:2993@stadtgeschichte-muenchen.de
SUMMARY:Das machtvolle Graggenauer Viertel
DESCRIPTION:Zwischen Odeonsplatz und Isartor erstreckt sich das Viertel mit dem seltsamen Namen Graggenau â€“ die â€žAu der Krähenâ€œ. Schon immer war dies der Fleck in München, von dem aus die Herrscher ihre Macht etablierten â€¦ Die Spuren der Macht sind überall zu entdecken: Auf dem Odeonsplatz mit seiner alles beherrschenden Feldherrnhalle, die einen mächtigen Kraftpunkt setzt. Die Residenz selbst zeigt in ihrer Struktur alle Zeichen, die ein Machtzentrum benötigt. Wir erfahren, welche Geheimnisse sich hinter ihren prachtvollen Mauern abspielte und welche bizarren Blüten Verschwendungssucht, religiöser Eifer und Machtmissbrauch trieben â€“ und sich in das Gedächtnis dieses Ortes für immer eingebrannt haben. Wir spüren den krassen Kontrast zwischen den hellsten und strahlendsten Orten der Stadt und den düstersten und freudlosesten Winkeln in diesem nordöstlichen Viertel der Altstadt. Und entdecken sein Herz am Platzl mit seinem Hofbräuhaus â€¦
DTSTART:20121028T153000
DTEND:20121028T173000
LOCATION:Feldherrnhalle (Odeonsplatz)
ORGANIZER:Mystisches München
END:VEVENT
END:VCALENDAR