BEGIN:VCALENDAR
VERSION:2.0
PRODID:-//Stadtgeschichte München//DE
CALSCALE:GREGORIAN
BEGIN:VEVENT
UID:2996@stadtgeschichte-muenchen.de
SUMMARY:Schauriges München â€“ die dunkle Seite der Stadt
DESCRIPTION:Die leuchtende Stadt, voller Licht und Leben! So kennen und lieben wir München mit seinen weiten Plätzen, prunkvollen Palästen und Boulevards. Doch es gibt auch die andere, die dunkle Seite der Stadt â€¦ Wir machen uns auf die Suche nach Spukorten in der Innenstadt, begegnen Teufeln und Dämonen, Ketzern und Verdammten, finden Plätze, an denen sich unfassliche Verbrechen abgespielt haben, grausamer religiöser Eifer sich Bahn schlug und vermeintliche Hexen ihre Seele aushauchten. Diese Tour führt zu den dunkelsten Orten der Innenstadt â€¦
DTSTART:20121103T163000
DTEND:20121103T183000
LOCATION:Frauenkirche (vor dem Haupteingang)
ORGANIZER:Mystisches München
END:VEVENT
END:VCALENDAR