BEGIN:VCALENDAR
VERSION:2.0
PRODID:-//Stadtgeschichte München//DE
CALSCALE:GREGORIAN
BEGIN:VEVENT
UID:2997@stadtgeschichte-muenchen.de
SUMMARY:Street-Art-München-Safari!
DESCRIPTION:&lt;p&gt;&lt;span style=&quot;color: rgb(51, 51, 51); font-family: &#039;lucida grande&#039;, tahoma, verdana, arial, sans-serif; font-size: 13px; line-height: 18px; &quot;&gt;Street-Art-M&amp;uuml;nchen-Safari&lt;/span&gt;&lt;span style=&quot;color: rgb(51, 51, 51); font-family: &#039;lucida grande&#039;, tahoma, verdana, arial, sans-serif; font-size: 13px; line-height: 18px; &quot;&gt;&amp;nbsp;zu einigen Highlights der M&amp;uuml;nchner Street Art!&lt;/span&gt;&lt;/p&gt; &lt;div class=&quot;text_exposed_show&quot; style=&quot;display: inline; color: rgb(51, 51, 51); font-family: &#039;lucida grande&#039;, tahoma, verdana, arial, sans-serif; font-size: 13px; line-height: 18px; &quot;&gt;Teilnahme nur mit dem eigenen Fahrrad m&amp;ouml;glich! Die Teilnahme erfolgt auf eigene Gefahr.&lt;br /&gt; &lt;br /&gt; Anmeldung unter:&amp;nbsp;safari@glockenbach-safari.de&lt;/div&gt;
DTSTART:20120815T100000
DTEND:20120815T123000
LOCATION: am Brunnen unterhalb des Friedensengels
ORGANIZER:
END:VEVENT
END:VCALENDAR