BEGIN:VCALENDAR
VERSION:2.0
PRODID:-//Stadtgeschichte München//DE
CALSCALE:GREGORIAN
BEGIN:VEVENT
UID:3007@stadtgeschichte-muenchen.de
SUMMARY:Papier, Haderlumpen &amp; Seide
DESCRIPTION:&lt;p&gt;Bei dieser Führung befassen wir uns mit den Lebens- und Arbeitsbedingungen der Auer Bevölkerung. Hier arbeitete 555 Jahre lang Deutschlands älteste Papiermühle, zu der auch die „Gilde der Hadern- und Lumpensammler&quot; gehörte. Hier befanden sich eine Seidenfabrik und eine „Wollwerk-Fabricca&quot;, die 2.000 Menschen Beschäftigung bot. In das „Arbeitshaus&quot; schoben die Münchner ihre Bettler ab und trugen damit zum schlechten Ruf des Viertels bei. Viele bekannte Münchner sind in der Au geboren worden, einer davon war Karl Valentin.&lt;/p&gt; 
DTSTART:20120831T163000
DTEND:20120831T190000
LOCATION:Roter Pavillon der DGB Region München, Steinsdorfstraße
ORGANIZER:DGB-Bildungswerk Bayern e.V. Region München
END:VEVENT
END:VCALENDAR