BEGIN:VCALENDAR
VERSION:2.0
PRODID:-//Stadtgeschichte München//DE
CALSCALE:GREGORIAN
BEGIN:VEVENT
UID:3008@stadtgeschichte-muenchen.de
SUMMARY:Reif für die Inseln
DESCRIPTION:&lt;div&gt;Urspr&amp;uuml;nglich als Lagerplatz f&amp;uuml;r Holzkohle genutzt, stationierte die &amp;ouml;sterreichische Besatzungsmacht anno 1705 auf der &amp;bdquo;Kohleninsel&amp;quot; ihre Soldaten. Ende des 19. Jahrhunderts beherbergte die &amp;bdquo;Alte Isarkaserne&amp;quot; st&amp;auml;dtische und staatliche Einrichtungen, darunter das erste &amp;bdquo;Arbeitsamt&amp;quot;. Daneben wurden die Bauten f&amp;uuml;r Ausstellungen und Messen verwendet. Schlie&amp;szlig;lich konnte 1925 hier der Sammlungsbau des &amp;bdquo;Deutschen Museums&amp;quot; der &amp;Ouml;ffentlichkeit zug&amp;auml;nglich gemacht werden. Auf der &amp;bdquo;Praterinsel&amp;quot; er&amp;ouml;ffnete Anton Gruber im Jahr 1810 einen Vergn&amp;uuml;gungsplatz nach Wiener Vorbild. Von 1867 bis 1988 war die Insel untrennbar mit dem Namen Riemerschmid verbunden, der hier Fabrikationsanlagen f&amp;uuml;r Essig und Spirituosen betrieb. Gleich nebenan war das &amp;bdquo;Cafe Isarlust&amp;quot;, in dem sich heute das &amp;bdquo;Alpine Museum&amp;quot; befindet.&lt;/div&gt;
DTSTART:20120901T113000
DTEND:20120901T140000
LOCATION:Roter Pavillon der DGB Region München, Steinsdorfstraße
ORGANIZER:DGB-Bildungswerk Bayern e.V. Region München
END:VEVENT
END:VCALENDAR