BEGIN:VCALENDAR
VERSION:2.0
PRODID:-//Stadtgeschichte München//DE
CALSCALE:GREGORIAN
BEGIN:VEVENT
UID:3010@stadtgeschichte-muenchen.de
SUMMARY:Münchner Originale
DESCRIPTION:&lt;p&gt;Ein Streifzug durch die letzten Jahrhunderte in M&amp;uuml;nchen, der sich haupts&amp;auml;chlich mit seinen Sonderlingen und Originalen befasst. Der Rundgang soll an Menschen erinnern, die durch ihre oft liebenswerten Eigenarten, bis in die heutige Zeit unvergessen geblieben sind. Dabei spielt die Entwicklung von einer Kleinstadt (M&amp;uuml;nchen hatte um 1800 ca. 40.000 Einwohner) in eine Millionenstadt eine entscheidende Rolle.&lt;/p&gt; &lt;p&gt;Wahrscheinlich sind die Sonderlinge und &amp;bdquo;Spinner&amp;quot; nicht seltener geworden als fr&amp;uuml;her, aber sie werden weniger wahrgenommen. Unsere schnelllebigen Zeiten in einer pulsierenden Gro&amp;szlig;stadt lassen kaum mehr Zeit, sich mit ihnen zu besch&amp;auml;ftigen.&lt;/p&gt; &lt;p&gt;Wir wollen uns auf die Spurensuche von stadtbekannten Originalen begeben und dabei auch die Gegenwart nicht au&amp;szlig;er Acht lassen.&lt;/p&gt;
DTSTART:20120921T150000
DTEND:20120921T170000
LOCATION:Unter dem Karlstor
ORGANIZER:DGB-Bildungswerk Bayern e.V. Region München
END:VEVENT
END:VCALENDAR