BEGIN:VCALENDAR
VERSION:2.0
PRODID:-//Stadtgeschichte München//DE
CALSCALE:GREGORIAN
BEGIN:VEVENT
UID:3012@stadtgeschichte-muenchen.de
SUMMARY:Die Königlich-Bayerischen Hoflieferanten
DESCRIPTION:&lt;p&gt;Zwischen 1806 und 1918 war Bayern K&amp;ouml;nigreich. W&amp;auml;hrend der Zeitspanne von &amp;uuml;ber 100 Jahren regierten f&amp;uuml;nf K&amp;ouml;nige und ein Prinzregent.&amp;nbsp;|&lt;span class=&quot;Apple-tab-span&quot; style=&quot;white-space:pre&quot;&gt; &lt;/span&gt;Besonders die K&amp;ouml;nige Ludwig I. und Ludwig II., sowie Prinzregent Luitpold pr&amp;auml;gten das M&amp;uuml;nchenbild, das heute mit Bayern in aller Welt in&lt;span class=&quot;Apple-tab-span&quot; style=&quot;white-space:pre&quot;&gt; &lt;/span&gt;Verbindung gebracht wird. Ein &amp;bdquo;K&amp;ouml;niglich Bayerischer Hoflieferant&amp;quot; zu&amp;nbsp;werden, war wohl der h&amp;ouml;chste Titel, den eine Firma damals erwerben&amp;nbsp;konnte. Heute gibt es in M&amp;uuml;nchen noch ca. 60 ehemalige &amp;bdquo;K&amp;ouml;niglich&amp;nbsp;Bayerische Hoflieferanten&amp;quot;. Machen wir uns auf die Spurensuche und&amp;nbsp;I&lt;span class=&quot;Apple-tab-span&quot; style=&quot;white-space:pre&quot;&gt; &lt;/span&gt;ergr&amp;uuml;nden die interessante, teils recht am&amp;uuml;sante Firmengeschichte von&amp;nbsp;ein paar dieser ehemaligen Hoflieferanten, bei denen fast jeder von uns&amp;nbsp;schon einmal eingekauft hat.&lt;/p&gt;
DTSTART:20121103T140000
DTEND:20121103T160000
LOCATION:Marienplatz 1, vor dem Juwelier Thomas
ORGANIZER:DGB-Bildungswerk Bayern e.V. Region München
END:VEVENT
END:VCALENDAR