BEGIN:VCALENDAR
VERSION:2.0
PRODID:-//Stadtgeschichte München//DE
CALSCALE:GREGORIAN
BEGIN:VEVENT
UID:3016@stadtgeschichte-muenchen.de
SUMMARY:Der „Gasteig
DESCRIPTION:&lt;p&gt;Die Bezeichnung f&amp;uuml;r die steil ansteigende Wegstrecke der Salzstra&amp;szlig;e (&amp;bdquo;gacher Steig&amp;quot;) - von der Isarbr&amp;uuml;cke hinauf aufs Hochufer - &amp;uuml;bertrug sich im Laufe der Zeit auf das gesamte Gel&amp;auml;nde zwischen Rosenheimer Platz, Wiener Platz und einem breiten Grundst&amp;uuml;ckstreifen auf heutigem Auer Gebiet. Das Areal war seit dem 15. Jahrhundert in den M&amp;uuml;nchner Burgfrieden einbezogen. Neben den milit&amp;auml;rischen Einrichtungen zur Br&amp;uuml;ckensicherung befand sich hier das Leprosenhaus, mehrere Wasserwerke zur Trinkwasserversorgung der Residenzstadt und die Bierkeller der M&amp;uuml;nchner Brauer. Hier entstand einerseits die Biergarten-Kultur, andererseits vollzog sich hier aber auch der Aufstieg Hitlers.&lt;/p&gt;
DTSTART:20120909T143000
DTEND:20120909T170000
LOCATION:Trompetenbrunnen am Kulturzentrum Gasteig
ORGANIZER:DGB-Bildungswerk Bayern e.V. Region München
END:VEVENT
END:VCALENDAR