BEGIN:VCALENDAR
VERSION:2.0
PRODID:-//Stadtgeschichte München//DE
CALSCALE:GREGORIAN
BEGIN:VEVENT
UID:3019@stadtgeschichte-muenchen.de
SUMMARY:Des oide München von der Hl. Geistkirche zum Sendlinger Tor
DESCRIPTION:&lt;p&gt;Lassts Eich dazu Gschichten in Bairischer Mundart erz&amp;auml;hlen und wie die Geschichte sich wirklich zugetragen hat. Wuide Leit treff ma auf unserm Weg.&lt;/p&gt; &lt;p&gt;H&amp;ouml;rts vom Brezenreiter, von der Bauernf&amp;auml;ngerei der Spitzederin und i ihren Bankgesch&amp;auml;ften, vom ehrsamen Rabi, wias zuaganga is im Badhaus, dem niemals&amp;nbsp;aufgekl&amp;auml;rten Mord im Freudenhaus und dem schrecklichen Gsch&amp;auml;ft vom Henker.&lt;/p&gt; &lt;p&gt;Es k&amp;ouml;nnt gf&amp;auml;hrlich werdn. Aber trotzdem: trauts Eich.&lt;/p&gt;
DTSTART:20121013T160000
DTEND:20121013T180000
LOCATION:Viktualienmarkt, vor der I Heilig-Geist-Kirche, zur Marktseite hin 
ORGANIZER:DGB-Bildungswerk Bayern e.V. Region München
END:VEVENT
END:VCALENDAR