BEGIN:VCALENDAR
VERSION:2.0
PRODID:-//Stadtgeschichte München//DE
CALSCALE:GREGORIAN
BEGIN:VEVENT
UID:3023@stadtgeschichte-muenchen.de
SUMMARY:Sänger, Verräter und Bildhauer
DESCRIPTION:&lt;p&gt;&amp;nbsp;&lt;/p&gt; &lt;p&gt;Mittlerweile mehr ein Freizeitpark denn ein historischer Friedhof ist der Alte N&amp;ouml;rdliche Friedhof in M&amp;uuml;nchen. Schade, denn auch hier ruhen ebenso wie&amp;nbsp;auf dem Alten S&amp;uuml;dlichen Friedhof bedeutende historische i und weniger bedeutende, aber interessante Menschen des 19. Jahrhunderts. Und auch &amp;uuml;ber sie&amp;nbsp;gibt es interessante Geschichten in Zusammenhang mit K&amp;ouml;nig Ludwig II. zu erz&amp;auml;hlen: Unter anderem von einem Hofs&amp;auml;nger, der &amp;bdquo;wie vom Zauber befangen war&amp;quot;,&amp;nbsp;von einem charakterlo-| sen Verr&amp;auml;ter, einem &amp;bdquo;g&amp;uuml;tigen, hei&amp;szlig;geliebten Freund&amp;quot;, von einer Schrift-! stellerin von &amp;bdquo;wohltuender W&amp;auml;rme&amp;quot;, vom Tischlein-Deck-Dich, ungekl&amp;auml;r-i ter Vaterschaft, der gr&amp;ouml;&amp;szlig;ten Beerdigung die M&amp;uuml;nchen je gesehen hat r und einem Werk &amp;bdquo;majest&amp;auml;tischer M&amp;uuml;nchner Klassik&amp;quot;.&lt;/p&gt;
DTSTART:20120916T140000
DTEND:20120916T153000
LOCATION:Friedhofseingang Tengstraße, nahe U-Bahn Josephsplatz
ORGANIZER:DGB-Bildungswerk Bayern e.V. Region München
END:VEVENT
END:VCALENDAR