BEGIN:VCALENDAR
VERSION:2.0
PRODID:-//Stadtgeschichte München//DE
CALSCALE:GREGORIAN
BEGIN:VEVENT
UID:3026@stadtgeschichte-muenchen.de
SUMMARY:Die Rose aus dem Bayernland
DESCRIPTION:&lt;p&gt;Gl&amp;uuml;ck und Tragik, &amp;auml;u&amp;szlig;erer Glanz und inneres Elend - Kaiserin Sisis j Leben war eine einzige Achterbahnfahrt der Gef&amp;uuml;hle. Und doch gab es einen Ort, an&amp;nbsp;dem sie sich gl&amp;uuml;cklich f&amp;uuml;hlte: in Bayern, wo sie geboren wurde und am Starnberger See aufwuchs. | Und wo sie es zeitlebens immer wieder hinziehen&amp;nbsp;sollte.&amp;nbsp;Auf diesem Rundgang erz&amp;auml;hlt die Referentin von Menschen, die in Zusammenhang mit der Kaiserin standen. Dabei geht sie auch auf Sisis Familie ein, zu&amp;nbsp;der auch ihr geliebter Gro&amp;szlig;cousin Ludwig II., der M&amp;auml;rchenk&amp;ouml;nig, z&amp;auml;hlte. Dunkle Prophezeiungen, extreme Gewaltm&amp;auml;rsche, griechische Sommersonnentage,&amp;nbsp;Hofbr&amp;auml;uhausbesuche und Sch&amp;ouml;nheitsrezepte - Cornelia Ziegler l&amp;auml;sst die Kaiserin wieder lebendig werden I und verr&amp;auml;t den wirklichen Grund f&amp;uuml;r Sisis&amp;nbsp;Sch&amp;ouml;nheitssucht.&lt;/p&gt;
DTSTART:20121003T140000
DTEND:20121003T153000
LOCATION:Stephansplatz, Am Friedhofseingang 
ORGANIZER:DGB-Bildungswerk Bayern e.V. Region München
END:VEVENT
END:VCALENDAR