BEGIN:VCALENDAR
VERSION:2.0
PRODID:-//Stadtgeschichte München//DE
CALSCALE:GREGORIAN
BEGIN:VEVENT
UID:3030@stadtgeschichte-muenchen.de
SUMMARY:Auf den Spuren von König Ludwig II. und Kaiserin Sisi
DESCRIPTION:&lt;div&gt;&lt;strong&gt;Eine F&amp;uuml;hrung f&amp;uuml;r Blinde und Sehbehinderte&lt;/strong&gt;&lt;/div&gt; &lt;div&gt;&amp;nbsp;&lt;/div&gt; &lt;div&gt;Wenn Grabsteine sprechen k&amp;ouml;nnten ... dann w&amp;uuml;rden sie Geschichten raunen von interessanten Menschen, die auf dem Alten S&amp;uuml;dlichen Friedhof beerdigt sind.&amp;nbsp;Stellvertretend f&amp;uuml;r die Steine erz&amp;auml;hlt Cornelia Ziegler von hier ruhenden Personen, die in Zusammenhang mit Kaiserin Sisi und K&amp;ouml;nig Ludwig stehen. Die&amp;nbsp;Form des Gottesackers ersp&amp;uuml;ren, kunstvolle Gr&amp;auml;ber ertasten, K&amp;ouml;nigliches und Kaiserliches riechen und schmek-ken - diese F&amp;uuml;hrung ist eine F&amp;uuml;hrung der&amp;nbsp;f&amp;uuml;nf Sinne, geeignet f&amp;uuml;r Sehbehinderte, Blinde und sehende Begleitpersonen gleicherma&amp;szlig;en. Denn wie hei&amp;szlig;t es doch: Man sieht nur, was man wei&amp;szlig;.&lt;/div&gt;
DTSTART:20120915T140000
DTEND:20120915T160000
LOCATION:Stephansplatz, Am Friedhofseingang 
ORGANIZER:DGB-Bildungswerk Bayern e.V. Region München
END:VEVENT
END:VCALENDAR