BEGIN:VCALENDAR
VERSION:2.0
PRODID:-//Stadtgeschichte München//DE
CALSCALE:GREGORIAN
BEGIN:VEVENT
UID:3038@stadtgeschichte-muenchen.de
SUMMARY:Führung durch den Generationengarten im Petuelpark
DESCRIPTION:&lt;p&gt;Der im Juni 2005 neu entstandene &amp;bdquo;Generationengarten&amp;quot; im Petuelpark im M&amp;uuml;nchner Norden geh&amp;ouml;rt zum immer&amp;nbsp;gr&amp;ouml;&amp;szlig;er werdenden &amp;bdquo;Netzwerk Interkultureller G&amp;auml;rten&amp;quot;. Tr&amp;auml;ger des Projekts ist der Verein Stadtteilarbeit&amp;nbsp;e.V.&lt;/p&gt; &lt;p&gt;Auf 30 kleinen Parzellen pflanzen und ernten Menschen aus &amp;uuml;ber 10 Herkunftsl&amp;auml;ndern Gem&amp;uuml;se, Kr&amp;auml;uter&amp;nbsp;und Blumen, lernen sich besser kennen und schlagen auch Wurzeln in der neuen Heimat. Zwischen Schwabing&amp;nbsp;und Milbertshofen, das jahrzehntelang durch den Mittleren Ring nicht nur r&amp;auml;umlich getrennt war, ist hier&amp;nbsp;eine neue Idylle entstanden, die allen gut tut. Der zum Garten geh&amp;ouml;rende Pavillon steht den Anwohnern&amp;nbsp;auch f&amp;uuml;r private Nutzungen und kulturelle Veranstaltungen zur Verf&amp;uuml;gung.&lt;/p&gt; &lt;p&gt;Der Generationengarten ist Teil des &amp;bdquo;Kunstprojekts Petuelpark&amp;quot;, das wir bei diesem Rundgang auch&amp;nbsp;kennenlernen werden.&lt;/p&gt;
DTSTART:20121007T150000
DTEND:20121007T163000
LOCATION:Pavillon im Generationengarten, Ricarda-Huch-Str. 4 
ORGANIZER:DGB-Bildungswerk Bayern e.V. Region München
END:VEVENT
END:VCALENDAR