BEGIN:VCALENDAR
VERSION:2.0
PRODID:-//Stadtgeschichte München//DE
CALSCALE:GREGORIAN
BEGIN:VEVENT
UID:3044@stadtgeschichte-muenchen.de
SUMMARY:Auf Glaubenswegen durch München
DESCRIPTION:&lt;p&gt;Ein Rundgang durch die M&amp;uuml;nchner Innenstadt, der die Gottesh&amp;auml;user verschiedener Religionen miteinbezieht.&amp;nbsp;Die Geschichte des Protestantismus in M&amp;uuml;nchen wird Thema sein in der Kirche St. Matth&amp;auml;us, und beim&amp;nbsp;J&amp;uuml;dischen Zentrum am Jakobsplatz werden wir uns auch mit der Geschichte der Juden in M&amp;uuml;nchen&amp;nbsp;besch&amp;auml;ftigen. Mariens&amp;auml;ule und Dom sind zentral f&amp;uuml;r die Marienverehrung der M&amp;uuml;nchner, und die alte griechisch-bayerische Freundschaft spiegelt sich bis zum heutigen Tage in 1 der sp&amp;auml;tgotischen griechisch-&amp;nbsp;orthodoxen Salvatorkirche. Auch die Geschichte der Muslime in M&amp;uuml;nchen wird in die F&amp;uuml;hrung miteinflie&amp;szlig;en.&lt;/p&gt;
DTSTART:20121108T100000
DTEND:20121108T120000
LOCATION:Sendlinger-Tor-Platz, unter dem Torbogen 
ORGANIZER:DGB-Bildungswerk Bayern e.V. Region München
END:VEVENT
END:VCALENDAR