BEGIN:VCALENDAR
VERSION:2.0
PRODID:-//Stadtgeschichte München//DE
CALSCALE:GREGORIAN
BEGIN:VEVENT
UID:3045@stadtgeschichte-muenchen.de
SUMMARY:El Greco, Rubens &amp; Co: Die Alte Pinakothek
DESCRIPTION:&lt;p&gt;In der Absicht, durch den Anblick von sch&amp;ouml;nen Kunstwerken die Seelen seiner Untertanen zu bilden,&amp;nbsp;initiierte K&amp;ouml;nig Ludwig I. Anfang des 19. Jahrhunderts ein einzigartiges Projekt: Eine Gem&amp;auml;ldegalerie&amp;nbsp;drau&amp;szlig;en vor der Stadt, wie sie die Welt noch nicht gesehen hatte. Noch heute gilt die Alte Pinakothek als&amp;nbsp;eines der bedeutendsten Museen der Welt. Grund genug, um auch unsere modernen Seelen mit dem Anblick von&amp;nbsp;italienischer, franz&amp;ouml;sischer, spanischer, deutscher, niederl&amp;auml;ndischer und fl&amp;auml;mischer Kunst zu erfreuen&amp;nbsp;und bei einer kurzweiligen Museumsf&amp;uuml;hrung einen Einblick in das Herz europ&amp;auml;ischer Kunstgeschichte zu erhalten.&lt;/p&gt;
DTSTART:20121111T100000
DTEND:20121111T120000
LOCATION:Alte Pinakothek, Eingangshalle
ORGANIZER:DGB-Bildungswerk Bayern e.V. Region München
END:VEVENT
END:VCALENDAR