BEGIN:VCALENDAR
VERSION:2.0
PRODID:-//Stadtgeschichte München//DE
CALSCALE:GREGORIAN
BEGIN:VEVENT
UID:3046@stadtgeschichte-muenchen.de
SUMMARY:Auf Pilgerwegen durch München
DESCRIPTION:&lt;p&gt;In fr&amp;uuml;heren Zeiten hat die Religion die Menschen auf Schritt und Tritt begleitet. Der Weg aus dem&amp;nbsp;Umland nach M&amp;uuml;nchen war von Kirchen und Gnadenst&amp;auml;tten ges&amp;auml;umt, und auch in M&amp;uuml;nchen selbst gab es viele&amp;nbsp;Wallfahrtsziele und Orte des Gebets. So war die Mariens&amp;auml;ule, gestiftet | als &amp;bdquo;gottgef&amp;auml;lliges Werk&amp;quot; von&amp;nbsp;Kurf&amp;uuml;rst Maximilian I., st&amp;auml;ndig von Betern umringt. Das Heilig-Geist-Spital wurde gegr&amp;uuml;ndet als&amp;nbsp;Unterkunft f&amp;uuml;r Pilger, und in St. Jakob am Anger war und ist der Ausgangspunkt f&amp;uuml;r den M&amp;uuml;nchner&amp;nbsp;Jakobsweg. Ein Rundgang zu einigen dieser Orte in der I Innenstadt, die in der Pilgergeschichte M&amp;uuml;nchens&amp;nbsp;eine besondere Rolle spielen.&lt;/p&gt;
DTSTART:20121113T100000
DTEND:20121113T120000
LOCATION:Marienplatz, Mariensäule
ORGANIZER:DGB-Bildungswerk Bayern e.V. Region München
END:VEVENT
END:VCALENDAR