BEGIN:VCALENDAR
VERSION:2.0
PRODID:-//Stadtgeschichte München//DE
CALSCALE:GREGORIAN
BEGIN:VEVENT
UID:3048@stadtgeschichte-muenchen.de
SUMMARY:Zu Besuch im Schloss: Das Residenzmuseum
DESCRIPTION:&lt;p&gt;Dieser Rundgang durch die ehemalige Residenz der Wittelsbacher, die HRfl heute zu den bedeutendsten&amp;nbsp;Schlossmuseen Europas z&amp;auml;hlt, verschafft uns einen &amp;Uuml;berblick &amp;uuml;ber das Leben der bayerischen Herrscher&amp;nbsp;durch die Jahrhunderte. Unterschiedliche Zeitstile pr&amp;auml;gen die R&amp;auml;umlichkeiten und vermitteln einen&amp;nbsp;Eindruck von Wohnkultur und f&amp;uuml;rstlicher Repr&amp;auml;sen-tation vergangener Zeiten. Es grenzt an ein Wunder, dass&amp;nbsp;dieser einzigartige Bau nach den schwersten Zerst&amp;ouml;rungen des II. Weltkriegs wiedererstanden und den&amp;nbsp;M&amp;uuml;nchner B&amp;uuml;rgern wie den Besuchern aus aller Welt heute noch zug&amp;auml;nglich ist.&lt;/p&gt;
DTSTART:20121119T100000
DTEND:20121119T120000
LOCATION:Residenzmuseum, an der Kasse, Residenzstr. 1 
ORGANIZER:DGB-Bildungswerk Bayern e.V. Region München
END:VEVENT
END:VCALENDAR