BEGIN:VCALENDAR
VERSION:2.0
PRODID:-//Stadtgeschichte München//DE
CALSCALE:GREGORIAN
BEGIN:VEVENT
UID:3054@stadtgeschichte-muenchen.de
SUMMARY:Das Angerviertel zwischen Tradition und Moderne
DESCRIPTION:&lt;p&gt; Im Zuge des Wiederaufbaus Münchens konnten der historische Straßengrundriss und die alte Stadtsilhouette weitgehend wiederhergestellt&amp;nbsp;werden. Gleichzeitig musste die Stadt zukunftsfähig gemacht werden.&amp;nbsp;Ein Beispiel gelungener Stadtsanierung ist das Neubauviertel - mit Rindermarkt, Sebastiansplatz und Jakobsplatz, der mit dem Bau der Synagoge wieder innerstädtische Bedeutung erlangt hat. Die Schranne mit&amp;nbsp;ihrem neuen Konzept als Markthalle und Ergänzung zum Viktualienmarkt hat das Quartier um eine weitere Attraktion bereichert.&lt;/p&gt;
DTSTART:20121021T140000
DTEND:20121021T160000
LOCATION:Eingang Stadtinformation, Marienplatz 8
ORGANIZER:DGB-Bildungswerk Bayern e.V. Region München
END:VEVENT
END:VCALENDAR