BEGIN:VCALENDAR
VERSION:2.0
PRODID:-//Stadtgeschichte München//DE
CALSCALE:GREGORIAN
BEGIN:VEVENT
UID:3056@stadtgeschichte-muenchen.de
SUMMARY:Der Gärtnerplatz und das Glockenbachviertel
DESCRIPTION:&lt;p&gt;Die Hans-Sachs-Stra&amp;szlig;e geh&amp;ouml;rt zu den besterhaltenen M&amp;uuml;nchner Stra&amp;szlig;enz&amp;uuml;gen der Gr&amp;uuml;nderzeit, die heute noch&amp;nbsp;einen Eindruck davon vermitteln, wie prachtvoll M&amp;uuml;nchen um die Jahrhundertwende ausgesehen haben mag.&amp;nbsp;Vereinzelt finden sich auch in der M&amp;uuml;llerstra&amp;szlig;e interessante Bauten. Die fr&amp;uuml;her reichlich hier flie&amp;szlig;enden&amp;nbsp;B&amp;auml;che sind weitgehend verschwunden, an die ehemalige M&amp;uuml;hlen- und S&amp;auml;gewerke erinnert heute kaum noch&amp;nbsp;etwas. Schon um die Mitte des 19. Jahrhunderts wurde das Viertel um den G&amp;auml;rtnerplatz nach Prinzipien des&amp;nbsp;geometrischen St&amp;auml;dtebaues systematisch angelegt, viele j&amp;uuml;dische Mitb&amp;uuml;rger lebten bis in die drei&amp;szlig;iger&amp;nbsp;Jahre dort. Trotz des relativ lautstarken Nachtlebens geh&amp;ouml;rt diese Gegend zu den begehrtesten Wohnlagen&amp;nbsp;M&amp;uuml;nchens, Besonders die Gr&amp;uuml;nanlagen vor dem Theater erfreuen sich bis tief in die Nacht gr&amp;ouml;&amp;szlig;ter&amp;nbsp;Beliebtheit, oft zum &amp;Auml;rger der Anwohner.&lt;/p&gt;
DTSTART:20121026T150000
DTEND:20121026T170000
LOCATION:Ecke Müller-/ Thalkirchner Straße
ORGANIZER:DGB-Bildungswerk Bayern e.V. Region München
END:VEVENT
END:VCALENDAR