BEGIN:VCALENDAR
VERSION:2.0
PRODID:-//Stadtgeschichte München//DE
CALSCALE:GREGORIAN
BEGIN:VEVENT
UID:3078@stadtgeschichte-muenchen.de
SUMMARY:Das BR-Funkhaus
DESCRIPTION:&lt;p&gt;Im Funkhaus in der Arnulfstra&amp;szlig;e 42/44 befinden sich die Sendezentrale H&amp;ouml;rfunk, die Programmredaktionen, Intendanz und Direktionen. Zu Beginn der Tour informiert Sie der BR &amp;uuml;ber&amp;nbsp; Geschichte, Organisation und Programmangebot von BR und ARD. Anschlie&amp;szlig;end geht es zum NewsCenter, der Nachrichtenzentrale H&amp;ouml;rfunk. Weiter besichtigen Sie die Musikstudios. In den&amp;nbsp; H&amp;ouml;rspielstudios erfahren Sie N&amp;auml;heres &amp;uuml;ber den Ablauf einer H&amp;ouml;rspielproduktion.&lt;br /&gt; In den Sendezentren von Bayern 1 und Bayern 3 erleben Sie die Moderatorinnen und Moderatoren bei ihrer Arbeit und sehen live die redaktionellen und technischen Abl&amp;auml;ufe einer Radiosendung auf modernstem Produktionsstandard.&lt;/p&gt;
DTSTART:20121026T170000
DTEND:20121026T183000
LOCATION:Arnulfstr. 42/44 - Foyer
ORGANIZER:DGB-Bildungswerk Bayern e.V. Region München
END:VEVENT
END:VCALENDAR