BEGIN:VCALENDAR
VERSION:2.0
PRODID:-//Stadtgeschichte München//DE
CALSCALE:GREGORIAN
BEGIN:VEVENT
UID:3079@stadtgeschichte-muenchen.de
SUMMARY:Besichtigung des ICE-Werkes
DESCRIPTION:&lt;p&gt;Die 435 Meter lange Wartungshalle f&amp;uuml;r die ICE-Boliden mit mehreren 1.000 Pferdest&amp;auml;rken ist nach dem M&amp;uuml;nchner Flughafen das zweitl&amp;auml;ngste Geb&amp;auml;ude Bayerns. Hier unterziehen sich in M&amp;uuml;nchen jede Nacht 25, tags&amp;uuml;ber 12 Z&amp;uuml;ge einem &amp;bdquo;Kleinen Boxenstopp&amp;quot;, wie die alle 3.500 Kilometer f&amp;auml;llige Untersuchung im Eisenbahnerjargon genannt wird. Jeder Handgriff ist vorausgeplant, denn 90 Minuten vor dem Eintreffen meldet der Zugcomputer, was alles zu erledigen ist, z. B. defekte Klimaanlagen, verstopfte Toiletten oder Sch&amp;auml;den an den Sto&amp;szlig;d&amp;auml;mpfern. In einer Stunde muss alles erledigt und zus&amp;auml;tzlich ein Sicherheitscheck gemacht worden sein. Dabei geht es um Fahrwerk, Bremsscheiben, Kabel und Federn, die das automatische Diagnosesystem &amp;uuml;bersehen haben k&amp;ouml;nnte. Alle 20.000 Kilometer ist eine &amp;bdquo;Nachschau&amp;quot; angesagt, bei der das Bremssystem getestet wird und alle 240.000 Kilometer werden hier auch die R&amp;auml;der durchleuchtet und auf Risse untersucht. Freuen Sie sich auf eine interessante F&amp;uuml;hrung mit Blick ins Cockpit eines IGE und Probesitzen auf dem Sessel des Triebfahrzeugf&amp;uuml;hrers.&lt;/p&gt; &lt;p&gt;Das Betriebsgel&amp;auml;nde ist leider nicht barrierefrei zu begehen!&lt;/p&gt; &lt;p&gt;Es darf nicht fotografiert werden!&lt;/p&gt;
DTSTART:20121019T170000
DTEND:20121019T190000
LOCATION:Trambahnhaltestelle Linie 19 â€žAm Lokschuppen\", Eingang Landsberger Str. 158
ORGANIZER:DGB-Bildungswerk Bayern e.V. Region München
END:VEVENT
END:VCALENDAR