BEGIN:VCALENDAR
VERSION:2.0
PRODID:-//Stadtgeschichte München//DE
CALSCALE:GREGORIAN
BEGIN:VEVENT
UID:3089@stadtgeschichte-muenchen.de
SUMMARY:HIV und AIDS 2012 - Besuch in Deutschlands ältester lokaler Aidshilfe
DESCRIPTION:&lt;div&gt;J&amp;auml;hrlich infizieren sich knapp 200 Menschen mit HIV im Raum M&amp;uuml;nchen.&lt;/div&gt; &lt;p&gt;Was bietet die Aidshilfe an? Wie lebt man mit der Infektion 2012? HIV-Infiziert und voll berufst&amp;auml;tig - geht das? Was kann die Medizin heute schon leisten? Der HlV-Schnelltest - ein Ergebnis in wenigen Minuten? Wohnen in der Aidshilfe - wieso das? Aids - gibt es das bei uns denn noch? K&amp;ouml;nnen Medikamente im Vorfeld eine Infektion verhindern? Der &amp;bdquo;Berliner Patient&amp;quot; - geheilt von HIV?&lt;/p&gt; &lt;div&gt;Bei diesem interaktiven Vortrag erfahren Sie anl&amp;auml;sslich des bevorstehenden Weltaidstages mehr &amp;uuml;ber die vielf&amp;auml;ltigen Arbeitsbereiche der &amp;auml;ltesten lokalen Aidshilfe Deutschlands und blicken in aktuelle Fragestellungen zum Thema HIV.&lt;/div&gt;
DTSTART:20121122T180000
DTEND:20121122T200000
LOCATION:Münchner Aids-Hilfe e.V., Lindwurmstr. 71 (Hofdurchfahrt), 2. Stock,
ORGANIZER:DGB-Bildungswerk Bayern e.V. Region München
END:VEVENT
END:VCALENDAR