BEGIN:VCALENDAR
VERSION:2.0
PRODID:-//Stadtgeschichte München//DE
CALSCALE:GREGORIAN
BEGIN:VEVENT
UID:3092@stadtgeschichte-muenchen.de
SUMMARY:Auf den Spuren der Seuchengeschichte in München
DESCRIPTION:&lt;p&gt;M&amp;uuml;nchen wurde &amp;uuml;ber Jahrhunderte von schrecklichen Seuchen heimgesucht. L&amp;auml;ngst vergessene Krankheiten bereiteten dem Tod reiche Ernte. Eine spannende und historisch gut fundierte Spurensuche &amp;uuml;ber 2.5 Std.&lt;/p&gt;
DTSTART:20121125T140000
DTEND:20121125T163000
LOCATION:Marienplatz, Haupteingang neues Rathaus
ORGANIZER:
END:VEVENT
END:VCALENDAR