BEGIN:VCALENDAR
VERSION:2.0
PRODID:-//Stadtgeschichte München//DE
CALSCALE:GREGORIAN
BEGIN:VEVENT
UID:3094@stadtgeschichte-muenchen.de
SUMMARY:Quellen des Lebens â€“ Wasser des Lebens (II)
DESCRIPTION:&lt;p&gt;Die Brunnen in M&amp;uuml;nchen sind zahlreich, zahlreicher als so mancher M&amp;uuml;nchner selbst denken mag. Da gibt es so bekannte wie den Springbrunnen am Stachus und nat&amp;uuml;rlich den als Treffpunkt beliebten Fischbrunnen auf dem Marienplatz. Jeder Brunnen erz&amp;auml;hlt eine Geschichte, nicht nur aus historischer und kunsthistorischer Sicht, sondern auch in Bezug auf den Platz, an dem er steht, und nat&amp;uuml;rlich die Symbolik, die in ihm gestaltet ist.Auf diesen erfrischenden Spazierg&amp;auml;ngen durch die M&amp;uuml;nchner Innenstadt suchen wir diese Brunnen auf, die prachtvollen wie den Wittelsbacher Brunnen und den Neptunbrunnen, aber auch die kleinen feinen wie den Faunbrunnen am Stachus und die eher vergessenen wie den im Alten Hof. Wir gehen auch an Stellen, an denen sich einst Brunnen befanden und gehen der Frage nach, welche Bedeutung sie dort besessen haben.&lt;/p&gt;
DTSTART:20120909T160000
DTEND:20120909T180000
LOCATION:Karlstor (Stachus)
ORGANIZER:Mystisches München
END:VEVENT
END:VCALENDAR