BEGIN:VCALENDAR
VERSION:2.0
PRODID:-//Stadtgeschichte München//DE
CALSCALE:GREGORIAN
BEGIN:VEVENT
UID:3109@stadtgeschichte-muenchen.de
SUMMARY:Metzgerei Bauch
DESCRIPTION:&lt;div&gt; &lt;p&gt;Sie werden immer weniger, die alteingesessenen, inhabergef&amp;uuml;hrten und bew&amp;auml;hrten&amp;nbsp;Betriebe. Die Kunden bleiben aus, gutes Personal ist knapp und oft fehlen die&amp;nbsp;Nachfolger. Nichts davon trifft auf die Metzgerei Bauch in der Isarvorstadt zu.&amp;nbsp;Seit dem Start vor &amp;uuml;ber f&amp;uuml;nfzig Jahren ging es mit viel Flei&amp;szlig;, Qualit&amp;auml;t und&amp;nbsp;Zielstrebigkeit stetig aufw&amp;auml;rts. Das Konzept - alte Rezepte, langj&amp;auml;hrige&amp;nbsp;zufriedene Mitarbeiter und die Philosophie, dass Metzger sein kein Beruf ist,&amp;nbsp;sondern Passion - hat sich bew&amp;auml;hrt und eine gute Zukunft.&lt;/p&gt; &lt;p&gt;&amp;nbsp;&lt;/p&gt; &lt;/div&gt;
DTSTART:20121113T133000
DTEND:20121113T143000
LOCATION:Thalkirchner Str. 63 
ORGANIZER:MVHS München Mitte   
END:VEVENT
END:VCALENDAR