BEGIN:VCALENDAR
VERSION:2.0
PRODID:-//Stadtgeschichte München//DE
CALSCALE:GREGORIAN
BEGIN:VEVENT
UID:3111@stadtgeschichte-muenchen.de
SUMMARY:Hilfe, meine Gäste wollen München kennenlernen!
DESCRIPTION:&lt;p&gt;Wer kennt diese Situation nicht? Bei diesem Stadtspaziergang durch die Altstadtviertel lernen wir nicht nur historische Geb&amp;auml;ude und Pl&amp;auml;tze kennen, auch&amp;nbsp;verborgene H&amp;ouml;fe und Altm&amp;uuml;nchner Winkel mit Tipps f&amp;uuml;r Restaurants und Cafes geh&amp;ouml;ren zu diesen Rundg&amp;auml;ngen.&lt;/p&gt;
DTSTART:20121014T110000
DTEND:20121014T133000
LOCATION:Rosenapotheke â€¢ Rosenstr./Ecke Rindermarkt
ORGANIZER:MVHS München Mitte   
END:VEVENT
END:VCALENDAR