BEGIN:VCALENDAR
VERSION:2.0
PRODID:-//Stadtgeschichte München//DE
CALSCALE:GREGORIAN
BEGIN:VEVENT
UID:3114@stadtgeschichte-muenchen.de
SUMMARY:Ausgehen in München für Damen ab 30
DESCRIPTION:&lt;p&gt;Haben Sie Lust, nette Bars kennen zu lernen? Wo kann Frau am Abend sch&amp;ouml;n ausgehen, etwas trinken, sich am&amp;uuml;sieren - gepflegt, elegant oder gem&amp;uuml;tlich&amp;nbsp;leger? M&amp;uuml;nchen bietet jede Menge traditionsreicher und sch&amp;ouml;ner Lokale, Clubs, Cafes. Wir streifen durch die Altstadt und schnuppern n&amp;auml;chtliche Ausgeh-Luft.&lt;/p&gt;
DTSTART:20121002T170000
DTEND:20121002T190000
LOCATION:Marienplatz, Fischbrunnen
ORGANIZER:MVHS München Mitte   
END:VEVENT
END:VCALENDAR