BEGIN:VCALENDAR
VERSION:2.0
PRODID:-//Stadtgeschichte München//DE
CALSCALE:GREGORIAN
BEGIN:VEVENT
UID:3115@stadtgeschichte-muenchen.de
SUMMARY:Gänse, Fasane und Brotsuppe - Von Hochzeiten und Banketten
DESCRIPTION:&lt;p&gt;Prunkvolle Feste waren zu Hofe eine willkommene Abwechslung. Eines der aufw&amp;auml;ndigsten damaligen Feste war sicher die Hochzeit von Herzog Wilhelm V. und&amp;nbsp;Renata von Lothringen, die zwei Wochen dauerte und 100000 Gulden kostete oder die Landshuter Hochzeit, auf der 40000 H&amp;uuml;hner, 12000 G&amp;auml;nse und hunderte&amp;nbsp;Ochsen und Schweine verzehrt wurden. Das einfache Volk konnte davon nur tr&amp;auml;umen und musste sich meist mit Kartoffeln, Kohl und Brotsuppe begn&amp;uuml;gen.&lt;/p&gt;
DTSTART:20121012T160000
DTEND:20121012T180000
LOCATION:Marienplatz, Mariensäule
ORGANIZER:MVHS München Mitte   
END:VEVENT
END:VCALENDAR