BEGIN:VCALENDAR
VERSION:2.0
PRODID:-//Stadtgeschichte München//DE
CALSCALE:GREGORIAN
BEGIN:VEVENT
UID:3119@stadtgeschichte-muenchen.de
SUMMARY:Engelamt, Weihnachter und Fatschnkind!
DESCRIPTION:&lt;p&gt;Ein Spaziergang durch das vorweihnachtliche M&amp;uuml;nchen&amp;nbsp;&amp;bdquo;Kathrein stellt R&amp;auml;der und Tanz ein&amp;quot;, hie&amp;szlig; es einst am 25. November, der die Adventszeit einl&amp;auml;utete. Dann durften die M&amp;uuml;ller nicht mehr mahlen, die&amp;nbsp;Weiberleute nicht mehr spinnen und die F&amp;uuml;&amp;szlig;e nicht mehr tanzen. Abseits vom Trubel erfahren Sie mehr &amp;uuml;ber gelebte und vergessene Br&amp;auml;uche in der&amp;nbsp;Weihnachtszeit und deren Ursprung: von Roratemessen und Pferdeumritten, von der Heiligen Barbara und der Schiach&#039;n Lux, vom Kl&amp;ouml;pfeln und&amp;nbsp;Bettstatttreten, von der Mettensau und vom heiligen Nikolaus... Passend dazu gibt es kleine Kostproben und &amp;Uuml;berraschungen.&lt;/p&gt;
DTSTART:20121123T160000
DTEND:20121123T180000
LOCATION:Stadtpfarrkirche St. Peter (Turmaufgang) â€¢ Rindermarkt 1
ORGANIZER:MVHS München Mitte   
END:VEVENT
END:VCALENDAR