BEGIN:VCALENDAR
VERSION:2.0
PRODID:-//Stadtgeschichte München//DE
CALSCALE:GREGORIAN
BEGIN:VEVENT
UID:3121@stadtgeschichte-muenchen.de
SUMMARY:Adventszeit in München
DESCRIPTION:&lt;p&gt;&amp;nbsp;&lt;/p&gt; &lt;div&gt;Wenn man heute in der Adventszeit durch M&amp;uuml;nchen und die Christ-kindlm&amp;auml;rkte geht, kann einen der Graus packen, wias da zuageht -Essen, Trinken und&amp;nbsp;dazwischen Rauschgoldengel - aba wos kann man macha, wos kannt oam da helfa? A herzenswarmes Gef&amp;uuml;hl war doch gfragt! In bayerischer Mundart erz&amp;auml;hlen wir&amp;nbsp;weihnachtliche Gschichten, von bayerischen Br&amp;auml;uchen und wolln versuchen, dass die richtige vorweihnachtliche Stimmung in uns wach wird.&lt;/div&gt; &lt;p&gt;&amp;nbsp;&lt;/p&gt;
DTSTART:20121207T153000
DTEND:20121207T173000
LOCATION:Stadtpfarrkirche St. Peter â€¢ Rindermarkt 1 (Turmaufgang)
ORGANIZER:MVHS München Mitte   
END:VEVENT
END:VCALENDAR