BEGIN:VCALENDAR
VERSION:2.0
PRODID:-//Stadtgeschichte München//DE
CALSCALE:GREGORIAN
BEGIN:VEVENT
UID:3122@stadtgeschichte-muenchen.de
SUMMARY:Engagement in einer Tour
DESCRIPTION:&lt;p&gt;Der Abend bietet Ihnen die Gelegenheit, unkompliziert Einblicke in einige Bereiche sozialer Arbeit in M&amp;uuml;nchen zu erhalten. Sie lernen verschiedene&amp;nbsp;Einrichtungen kennen, in denen Freiwillige aktiv sind. Mit dem MW und zu Fu&amp;szlig; (Wege bis 15 Min.) besuchen wir unterschiedliche Einrichtungen&amp;nbsp;(Migrationsdienst, Altenheim, Frauenberatung), die ihre Arbeit vorstellen und zeigen, was an freiwilliger T&amp;auml;tigkeit bereits geleistet oder noch&amp;nbsp;gebraucht wird. MW-Gruppenfahrkarte f&amp;uuml;r alle Teilnehmer/innen wird gestellt. In Kooperation mit dem Caritas-Zentrum M&amp;uuml;nchen Innenstadt.&lt;/p&gt;
DTSTART:20121018T174500
DTEND:20121018T204500
LOCATION:Caritasverband München e.V. â€¢ Hirtenstr. 4 (Haupteingang)
ORGANIZER:MVHS München Mitte   
END:VEVENT
END:VCALENDAR