BEGIN:VCALENDAR
VERSION:2.0
PRODID:-//Stadtgeschichte München//DE
CALSCALE:GREGORIAN
BEGIN:VEVENT
UID:3125@stadtgeschichte-muenchen.de
SUMMARY:Hinter den Kulissen der Hauptfeuerwache
DESCRIPTION:&lt;div&gt;Die Hauptfeuerwache wurde am 11. Juli 1904, genau zum 25-j&amp;auml;hrigen Bestehen der Berufsfeuerwehr M&amp;uuml;nchen, bezogen. Sie ersetzte das. damals veraltete und&amp;nbsp;zu kleine &amp;bdquo;Zentralfeuerhaus&amp;quot;. Heute ist die Feuerwache eine auf hohem technischen Niveau ausgestattete Service-Station, die rund um die Uhr in&amp;nbsp;Bereitschaft sein muss. Die F&amp;uuml;hrung zeigt die Einsatzm&amp;ouml;glichkeiten der Feuerwehr und gibt Einblick in den Tagesablauf der Wachmannschaft.&lt;/div&gt;
DTSTART:20130131T170000
DTEND:20130131T193000
LOCATION:An der Hauptfeuerwache 8 (Haupteingang) 
ORGANIZER:MVHS München Mitte   
END:VEVENT
END:VCALENDAR